BEGIN:VCALENDAR
VERSION:2.0
PRODID:https://github.com/derhansen/sf_event_mgt
METHOD:PUBLISH
BEGIN:VEVENT
UID:272-638@www.processcentric.ch
CLASS: PUBLIC
SUMMARY:HERMES Foundation Blended (Français) - 6 mai 2026
DESCRIPTION:Préparation à l'examen de certification HERMES 2022 Foundation.
  Une journée de formation virtuelle (séance visio), combinée à un module d'
 apprentissage en ligne comprenant des simulations d'examens.\n\nInclus dans
  cette formation :1 jour de formation par un formateur certifié en visiocon
 férenceVidéos explicatives et quiz (10 heures d'auto-apprentissage, 6 mois 
 d'accès)Guide "HERMES Essentiel" (PDF)Aperçu des scénarios / Poster (PDF)Di
 apositives (PDF)Simulations d'examen avec plus de 200 exemples de questions
 Attestation de participationOption : Inscription à l'examen de certificatio
 n “HERMES Foundation” (frais d'examen CHF 350, frais de dossier CHF 50)
LOCATION:Virtual
DTSTAMP:20251204T063946Z
DTSTART:20260506T063000Z
DTEND:20260506T143000Z
END:VEVENT
END:VCALENDAR
