BEGIN:VCALENDAR
VERSION:2.0
PRODID:https://github.com/derhansen/sf_event_mgt
METHOD:PUBLISH
BEGIN:VEVENT
UID:314-638@www.processcentric.ch
CLASS: PUBLIC
SUMMARY:HERMES Advanced DeLuxe (Français) - 7/8 mai 2026
DESCRIPTION:Préparation à l'examen de certification HERMES 2022 Advanced . 
 Deux journées de formation présentielles, combinée à un module d'apprentiss
 age en ligne comprenant des simulations d'examens.\n\nInclus dans cette for
 mation :2 jours de formation par un formateur certifié en présentielVidéos 
 explicatives et quiz (10 heures d'auto-apprentissage, 6 mois d'accès)Guide 
 "HERMES Essentiel" (PDF)Aperçu des scénarios / Poster (PDF)Diapositives (PD
 F)Simulations d'examen avec plus de 200 exemples de questionsAttestation de
  participationOption : Inscription à l'examen de certification “HERMES Adva
 nced” (frais d'examen CHF 890, frais de dossier CHF 50)
LOCATION:Lausanne
DTSTAMP:20251205T060130Z
DTSTART:20260507T063000Z
DTEND:20260508T143000Z
END:VEVENT
END:VCALENDAR
