BEGIN:VCALENDAR
VERSION:2.0
PRODID:https://github.com/derhansen/sf_event_mgt
METHOD:PUBLISH
BEGIN:VEVENT
UID:288-638@www.processcentric.ch
CLASS: PUBLIC
SUMMARY:HERMES Advanced Blended (Français) - 24 juin 2026
DESCRIPTION:Préparation à l'examen de certification HERMES 2022 Advanced. U
 ne journée de formation virtuelle (séance visio), combinée à un module d'ap
 prentissage en ligne comprenant des simulations d'examens.\n\nInclus dans c
 ette formation :1 jour de formation par un formateur certifié en visioconfé
 renceVidéos explicatives et quiz (10 heures d'auto-apprentissage, 6 mois d'
 accès)Guide "HERMES Essentiel" (PDF)Aperçu des scénarios / Poster (PDF)Diap
 ositives (PDF)Simulations d'examen avec plus de 200 exemples de questionsAt
 testation de participationOption : Inscription à l'examen de certification 
 “HERMES Advanced” (frais d'examen CHF 890, frais de dossier CHF 50)
LOCATION:Virtual
DTSTAMP:20251204T164647Z
DTSTART:20260624T063000Z
DTEND:20260624T143000Z
END:VEVENT
END:VCALENDAR
