BEGIN:VCALENDAR
VERSION:2.0
PRODID:https://github.com/derhansen/sf_event_mgt
METHOD:PUBLISH
BEGIN:VEVENT
UID:308-638@www.processcentric.ch
CLASS: PUBLIC
SUMMARY:HERMES Foundation DeLuxe (Français) - 30 avril / 1er mai 2026
DESCRIPTION:Préparation à l'examen de certification HERMES 2022 Foundation.
  Deux journées de formation présentielles, combinée à un module d'apprentis
 sage en ligne comprenant des simulations d'examens.\n\nInclus dans cette fo
 rmation :2 jours de formation par un formateur certifié en présentielVidéos
  explicatives et quiz (10 heures d'auto-apprentissage, 6 mois d'accès)Guide
  "HERMES Essentiel" (PDF)Aperçu des scénarios / Poster (PDF)Diapositives (P
 DF)Simulations d'examen avec plus de 200 exemples de questionsAttestation d
 e participationOption : Inscription à l'examen de certification “HERMES Fou
 ndation” (frais d'examen CHF 350, frais de dossier CHF 50)
LOCATION:Lausanne
DTSTAMP:20251205T055828Z
DTSTART:20260430T063000Z
DTEND:20260501T143000Z
END:VEVENT
END:VCALENDAR
