BEGIN:VCALENDAR
VERSION:2.0
PRODID:https://github.com/derhansen/sf_event_mgt
METHOD:PUBLISH
BEGIN:VEVENT
UID:330-638@www.processcentric.ch
CLASS: PUBLIC
SUMMARY:HERMES Complete DeLuxe (Français) - 25/26 juin & 16/17 juillet 2026
DESCRIPTION:Préparation aux l'examens de certification HERMES 2022 Foundati
 on et Advanced. Quatre journées de formation présentielle, combinée à un mo
 dule d'apprentissage en ligne comprenant des simulations d'examens.\n\nIncl
 us dans cette formation :4 jours de formation par un formateur certifié en 
 présentielVidéos explicatives et quiz (20 heures d'auto-apprentissage, 9 mo
 is d'accès)Guide "HERMES Essentiel" (PDF)Aperçu des scénarios / Poster (PDF
 )Diapositives (PDF)Simulations d'examen avec plus de 400 exemples de questi
 onsAttestation de participationOption : Inscription aux l'examens de certif
 ication “HERMES Foundation” et “HERMES Advanced” (frais d'examen CHF 350 re
 sp. CHF 890, frais de dossier CHF 50)
LOCATION:Sion
DTSTAMP:20251205T060900Z
DTSTART:20260625T063000Z
DTEND:20260717T143000Z
END:VEVENT
END:VCALENDAR
