BEGIN:VCALENDAR
VERSION:2.0
PRODID:https://github.com/derhansen/sf_event_mgt
METHOD:PUBLISH
BEGIN:VEVENT
UID:342-638@www.processcentric.ch
CLASS: PUBLIC
SUMMARY:HERMES Complete Blended (Français) - 10 & 24 juin 2026
DESCRIPTION:Préparation aux examens de certification HERMES 2022 Foundation
  et Advanced. Deux journée de formation virtuelle (séance visio), combinée 
 à un module d'apprentissage en ligne comprenant des simulations d'examens.\
 n\nInclus dans cette formation :2 jours de formation par un formateur certi
 fié en visioconférenceVidéos explicatives et quiz (20 heures d'auto-apprent
 issage, 9 mois d'accès)Guide "HERMES Essentiel" (PDF)Aperçu des scénarios /
  Poster (PDF)Diapositives (PDF)Simulations d'examen avec plus de 400 exempl
 es de questionsAttestation de participationOption : Inscription aux examens
  de certification “HERMES Foundation” et “HERMES Advanced” (frais d'examen 
 CHF 350 resp. CHF 890, frais de dossier CHF 50)
LOCATION:Virtual
DTSTAMP:20251205T063425Z
DTSTART:20260610T063000Z
DTEND:20260624T143000Z
END:VEVENT
END:VCALENDAR
